BEGIN:VCALENDAR
VERSION:2.0
PRODID:-//ROOFTOP Arts Centre - ECPv6.15.18//NONSGML v1.0//EN
CALSCALE:GREGORIAN
METHOD:PUBLISH
X-ORIGINAL-URL:https://rooftopartscentre.co.uk
X-WR-CALDESC:Events for ROOFTOP Arts Centre
REFRESH-INTERVAL;VALUE=DURATION:PT1H
X-Robots-Tag:noindex
X-PUBLISHED-TTL:PT1H
BEGIN:VTIMEZONE
TZID:Europe/London
BEGIN:DAYLIGHT
TZOFFSETFROM:+0000
TZOFFSETTO:+0100
TZNAME:BST
DTSTART:20230326T010000
END:DAYLIGHT
BEGIN:STANDARD
TZOFFSETFROM:+0100
TZOFFSETTO:+0000
TZNAME:GMT
DTSTART:20231029T010000
END:STANDARD
BEGIN:DAYLIGHT
TZOFFSETFROM:+0000
TZOFFSETTO:+0100
TZNAME:BST
DTSTART:20240331T010000
END:DAYLIGHT
BEGIN:STANDARD
TZOFFSETFROM:+0100
TZOFFSETTO:+0000
TZNAME:GMT
DTSTART:20241027T010000
END:STANDARD
BEGIN:DAYLIGHT
TZOFFSETFROM:+0000
TZOFFSETTO:+0100
TZNAME:BST
DTSTART:20250330T010000
END:DAYLIGHT
BEGIN:STANDARD
TZOFFSETFROM:+0100
TZOFFSETTO:+0000
TZNAME:GMT
DTSTART:20251026T010000
END:STANDARD
END:VTIMEZONE
BEGIN:VEVENT
DTSTART;TZID=Europe/London:20240919T080000
DTEND;TZID=Europe/London:20241023T170000
DTSTAMP:20260423T231156
CREATED:20240919T210018Z
LAST-MODIFIED:20250206T220048Z
UID:10000057-1726732800-1729702800@rooftopartscentre.co.uk
SUMMARY:Corby Photographic Club
DESCRIPTION:Annual Print Exhibition\nThis collection of work will be in a “pop-up” display on Willow Place.\nYou will able to see the images through the window between Thursday 19th September and Wednesday 23rd October. \nShare with your friends:
URL:https://rooftopartscentre.co.uk/event/corby-photographic-club
LOCATION:ROOFTOP Arts Centre\, 27 New Post Office Square\, Corby\, Northants\, NN17 1PB\, United Kingdom
CATEGORIES:Exhibitions,Window Gallery
ATTACH;FMTTYPE=image/jpeg:https://rooftopartscentre.co.uk/wp-content/uploads/2025/01/Corby-Photography-Group-Exh.jpg
ORGANIZER;CN="ROOFTOP Arts Centre":MAILTO:info@rooftopartscentre.co.uk
END:VEVENT
BEGIN:VEVENT
DTSTART;TZID=Europe/London:20241016T110000
DTEND;TZID=Europe/London:20241023T160000
DTSTAMP:20260423T231156
CREATED:20241016T205229Z
LAST-MODIFIED:20250206T215306Z
UID:10000055-1729076400-1729699200@rooftopartscentre.co.uk
SUMMARY:PopUp
DESCRIPTION:The Resident Artists at the Rooftop Art are showing off their work in a Pop-Up exhibition until the 23rd October. \nThe artists who have collaborated in the exhibition are Duncan Bond\, Hororata Przybysz\, Dinah Kazakoff\, Tony Segal\, Martin Baldock\, Jill Hedges and Fanoula Georgiou. \nShare with your friends:
URL:https://rooftopartscentre.co.uk/event/popup
LOCATION:ROOFTOP Arts Centre\, 27 New Post Office Square\, Corby\, Northants\, NN17 1PB\, United Kingdom
CATEGORIES:Exhibitions,Small Gallery
ATTACH;FMTTYPE=image/jpeg:https://rooftopartscentre.co.uk/wp-content/uploads/2025/02/PopUp.jpeg
ORGANIZER;CN="ROOFTOP Arts Centre":MAILTO:info@rooftopartscentre.co.uk
END:VEVENT
END:VCALENDAR