BEGIN:VCALENDAR
VERSION:2.0
PRODID:-//ROOFTOP Arts Centre - ECPv6.15.20//NONSGML v1.0//EN
CALSCALE:GREGORIAN
METHOD:PUBLISH
X-ORIGINAL-URL:https://rooftopartscentre.co.uk
X-WR-CALDESC:Events for ROOFTOP Arts Centre
REFRESH-INTERVAL;VALUE=DURATION:PT1H
X-Robots-Tag:noindex
X-PUBLISHED-TTL:PT1H
BEGIN:VTIMEZONE
TZID:Europe/London
BEGIN:DAYLIGHT
TZOFFSETFROM:+0000
TZOFFSETTO:+0100
TZNAME:BST
DTSTART:20250330T010000
END:DAYLIGHT
BEGIN:STANDARD
TZOFFSETFROM:+0100
TZOFFSETTO:+0000
TZNAME:GMT
DTSTART:20251026T010000
END:STANDARD
BEGIN:DAYLIGHT
TZOFFSETFROM:+0000
TZOFFSETTO:+0100
TZNAME:BST
DTSTART:20260329T010000
END:DAYLIGHT
BEGIN:STANDARD
TZOFFSETFROM:+0100
TZOFFSETTO:+0000
TZNAME:GMT
DTSTART:20261025T010000
END:STANDARD
BEGIN:DAYLIGHT
TZOFFSETFROM:+0000
TZOFFSETTO:+0100
TZNAME:BST
DTSTART:20270328T010000
END:DAYLIGHT
BEGIN:STANDARD
TZOFFSETFROM:+0100
TZOFFSETTO:+0000
TZNAME:GMT
DTSTART:20271031T010000
END:STANDARD
END:VTIMEZONE
BEGIN:VEVENT
DTSTART;TZID=Europe/London:20260506T110000
DTEND;TZID=Europe/London:20260624T160000
DTSTAMP:20260425T181253
CREATED:20260425T125527Z
LAST-MODIFIED:20260425T125527Z
UID:10000814-1778065200-1782316800@rooftopartscentre.co.uk
SUMMARY:Us2
DESCRIPTION:Us2 – A Visual Conversation Between Two Artists\nAre you searching for an artistic experience that moves beyond the frame? Do you feel that traditional art is sometimes too curated\, too predictable? You crave a genuine conversation—one that is chaotic\, authentic\, and entirely unique. \nToo often\, art is presented as a monolithic\, finished statement. It allows us to observe a story\, but rarely invites us to co-create it. You are looking for something that mirrors the uncontrolled\, vibrant complexity of modern life. \n‘Us2’ is that encounter.\nThis is not a piece created by a single master\, but a visual dialogue. Dinah Kazakoff and Fanoulla Georgiou work side-by-side\, letting intuition and chance steer the palette. Their combined language\, fusing collage\, paint\, and found imagery\, dissolves the line between artist and artwork. \nCollaborative work by Dinah Kazakoff and Fanoulla Georgiou \nAllow yourself this moment of discovery. As you stand before these canvasses\, you will feel your own definitions of control and beauty shifting. You will find art where meaning isn’t handed to you\, but organically emerges from the interplay of two distinct visions. \nExperience the Exhibition\nSet within the vibrant atmosphere of Rooftop Arts Centre\, Us2 invites visitors to encounter works that blur the boundaries between individual identity and shared creation\, intuition and intentionality. The exhibition celebrates the synergy of two artists who turned a single canvas into a living dialogue—and whose collaborative process continues to reshape how we perceive artistic authorship. \nPlan your visit!\nDrop by Rooftop Arts Centre between 6th May 2026 and 24th June 2026 to enjoy this outstanding free exhibition. \nOpening Reception\nFriday 8th May 6-8pm\, all welcome.\nFree entry and refreshments \nShare with your friends:
URL:https://rooftopartscentre.co.uk/event/us2
LOCATION:ROOFTOP Arts Centre\, 27 New Post Office Square\, Corby\, Northants\, NN17 1PB\, United Kingdom
CATEGORIES:Exhibitions,Large Gallery
ATTACH;FMTTYPE=image/jpeg:https://rooftopartscentre.co.uk/wp-content/uploads/2026/04/Us2-cover.jpeg
ORGANIZER;CN="ROOFTOP Arts Centre":MAILTO:info@rooftopartscentre.co.uk
END:VEVENT
BEGIN:VEVENT
DTSTART;TZID=Europe/London:20260605T110000
DTEND;TZID=Europe/London:20260605T123000
DTSTAMP:20260425T181253
CREATED:20260204T140255Z
LAST-MODIFIED:20260326T120548Z
UID:10000646-1780657200-1780662600@rooftopartscentre.co.uk
SUMMARY:Friday Art Class
DESCRIPTION:CREATIVE ARTS CLASS\nFriday Mornings\, All Levels\nWith resident art tutor Fanoulla Georgiou \nJoin our Fridays art group and learn new skills in drawing\, painting\, pastels\, print media and many other artists media. \nTo book a space call us on 01536 267101\nor email ArtEd@rooftopartscentre.co.uk \nEvery Friday 11 am – 12.30 pm\n£15 per session\, or £75 for 6 sessions (1 session free) \nShare with your friends:
URL:https://rooftopartscentre.co.uk/event/friday-art-class-2-2/2026-06-05
LOCATION:ROOFTOP Arts Centre\, 27 New Post Office Square\, Corby\, Northants\, NN17 1PB\, United Kingdom
CATEGORIES:Adult Creators,Classes
ATTACH;FMTTYPE=image/jpeg:https://rooftopartscentre.co.uk/wp-content/uploads/2025/03/CREATIVE-ARTS-CLASS.jpg
ORGANIZER;CN="Fanoulla Georgiou":MAILTO:ArtEd@rooftopartscentre.co.uk
END:VEVENT
BEGIN:VEVENT
DTSTART;TZID=Europe/London:20260605T133000
DTEND;TZID=Europe/London:20260605T150000
DTSTAMP:20260425T181253
CREATED:20260327T223549Z
LAST-MODIFIED:20260327T224444Z
UID:10000758-1780666200-1780671600@rooftopartscentre.co.uk
SUMMARY:Draw and Paint Portraits
DESCRIPTION:Learn to capture character and expression using drawing\, painting\, and pastels.\nWhether you are picking up a pencil for the first time or looking to return to art after a long break\, our portraiture classes offer a welcoming space for everyone. From students and working professionals to retirees\, these sessions are designed to help you rediscover your creative spark and develop your skills at your own pace. \nHave you always wanted to learn how to draw faces?\nCapturing a likeness can feel intimidating\, but in this relaxed and supportive environment\, you’ll discover that it is both accessible and deeply rewarding. We’ll explore a range of techniques – including drawing\, painting\, and pastels – focusing on how to translate expression and character onto the canvas. \nUnder expert guidance\, you will build the confidence to develop your own unique style. You’ll learn the fundamentals of anatomy and proportion while enjoying the freedom to experiment\, eventually creating impressive portraits of friends\, family\, or even famous faces. \n \nThere’s no pressure and no expectation of perfection—just encouragement\, guidance\, and the freedom to experiment in a supportive\, creative environment. Come as you are. Bring your curiosity. Leave with new skills\, fresh inspiration\, and the confidence to keep creating. \nDon’t miss your chance to be part of this one-of-a-kind creative escape! \nClass Details:\nWhen: Fridays (Starting 10 April 2026)\nTime: 1:30 pm – 3:00 pm\nSkill Level: All levels welcome!\nCost: £12 per class\, or £65 for a 6-week course \nSpaces are limited – sign up today to secure your place at this one-of-a-kind event. \nShare with your friends:
URL:https://rooftopartscentre.co.uk/event/draw-and-paint-portraits/2026-06-05
LOCATION:ROOFTOP Arts Centre\, 27 New Post Office Square\, Corby\, Northants\, NN17 1PB\, United Kingdom
CATEGORIES:Classes
ATTACH;FMTTYPE=image/jpeg:https://rooftopartscentre.co.uk/wp-content/uploads/2026/03/Draw-and-Paint-Portraits.jpg
ORGANIZER;CN="ROOFTOP Arts Centre":MAILTO:info@rooftopartscentre.co.uk
END:VEVENT
END:VCALENDAR