BEGIN:VCALENDAR
VERSION:2.0
PRODID:-//ROOFTOP Arts Centre - ECPv6.15.18//NONSGML v1.0//EN
CALSCALE:GREGORIAN
METHOD:PUBLISH
X-WR-CALNAME:ROOFTOP Arts Centre
X-ORIGINAL-URL:https://rooftopartscentre.co.uk
X-WR-CALDESC:Events for ROOFTOP Arts Centre
REFRESH-INTERVAL;VALUE=DURATION:PT1H
X-Robots-Tag:noindex
X-PUBLISHED-TTL:PT1H
BEGIN:VTIMEZONE
TZID:Europe/London
BEGIN:DAYLIGHT
TZOFFSETFROM:+0000
TZOFFSETTO:+0100
TZNAME:BST
DTSTART:20250330T010000
END:DAYLIGHT
BEGIN:STANDARD
TZOFFSETFROM:+0100
TZOFFSETTO:+0000
TZNAME:GMT
DTSTART:20251026T010000
END:STANDARD
BEGIN:DAYLIGHT
TZOFFSETFROM:+0000
TZOFFSETTO:+0100
TZNAME:BST
DTSTART:20260329T010000
END:DAYLIGHT
BEGIN:STANDARD
TZOFFSETFROM:+0100
TZOFFSETTO:+0000
TZNAME:GMT
DTSTART:20261025T010000
END:STANDARD
BEGIN:DAYLIGHT
TZOFFSETFROM:+0000
TZOFFSETTO:+0100
TZNAME:BST
DTSTART:20270328T010000
END:DAYLIGHT
BEGIN:STANDARD
TZOFFSETFROM:+0100
TZOFFSETTO:+0000
TZNAME:GMT
DTSTART:20271031T010000
END:STANDARD
END:VTIMEZONE
BEGIN:VEVENT
DTSTART;TZID=Europe/London:20260219T183000
DTEND;TZID=Europe/London:20260219T193000
DTSTAMP:20260421T130450
CREATED:20260211T140300Z
LAST-MODIFIED:20260211T140318Z
UID:10000561-1771525800-1771529400@rooftopartscentre.co.uk
SUMMARY:Drama Club
DESCRIPTION:Unleash Your Inner Actor at Our Free Drama Club\nWhat is Drama Club?\nDrama Club is a new club we are developing at the Rooftop Arts Centre. This is a free taster session to see how the community responds to the Drama Club. We also would like to gather feedback from participants to see how we could develop the club to suit their needs. \nWho is invited?\n18+ only. \nWhat will we be doing?\n\nI’ll take you through some theatre games as a warmup.\nWe’ll learn about vocal/physical technique for an actor.\nWe’ll study a scene and create a character.\nThen finish with a short discussion.\nWe’ll ask you for feedback on the session\, and what future Drama Clubs could look like.\n\n \nAbout the Organiser\nThe event is hosted by Nkara Stephenson\, a professional actress with stage experience on the West End and various professional stages. As a certified artist\, Nkara brings expertise in vocal techniques\, physical expression\, and character development to the program. \nIn partnership with Rooftop Arts Centre\, Nkara focuses on developing the local arts community in Corby through workshops for both young artists and adults. The mission is not only to teach the craft of acting but also to create a space for dialogue about the future of arts programs in the region. \n\n\nInstagram: @nkara.s \n\n\nContact: nkarastephensonacting@gmail.com. \n\n\n\nEvent details:\nTime: 19th February 6.30 pm-7.30pm\nCost: Free \nIf you are interested in attending our event please fill out this.\nThis is so we can email further information regarding the event.  \nSign Up link: Drama Club – Sign Up \n\n\nIf you have any further enquiries please email the event organiser at nkarastephensonacting@gmail.com. \n\nShare with your friends:
URL:https://rooftopartscentre.co.uk/event/drama-club
LOCATION:ROOFTOP Arts Centre\, 27 New Post Office Square\, Corby\, Northants\, NN17 1PB\, United Kingdom
CATEGORIES:Workshops
ATTACH;FMTTYPE=image/jpeg:https://rooftopartscentre.co.uk/wp-content/uploads/2026/02/Drama-Club.jpeg
ORGANIZER;CN="ROOFTOP Arts Centre":MAILTO:info@rooftopartscentre.co.uk
END:VEVENT
END:VCALENDAR