BEGIN:VCALENDAR
VERSION:2.0
PRODID:-//ROOFTOP Arts Centre - ECPv6.15.18//NONSGML v1.0//EN
CALSCALE:GREGORIAN
METHOD:PUBLISH
X-ORIGINAL-URL:https://rooftopartscentre.co.uk
X-WR-CALDESC:Events for ROOFTOP Arts Centre
REFRESH-INTERVAL;VALUE=DURATION:PT1H
X-Robots-Tag:noindex
X-PUBLISHED-TTL:PT1H
BEGIN:VTIMEZONE
TZID:Europe/London
BEGIN:DAYLIGHT
TZOFFSETFROM:+0000
TZOFFSETTO:+0100
TZNAME:BST
DTSTART:20250330T010000
END:DAYLIGHT
BEGIN:STANDARD
TZOFFSETFROM:+0100
TZOFFSETTO:+0000
TZNAME:GMT
DTSTART:20251026T010000
END:STANDARD
BEGIN:DAYLIGHT
TZOFFSETFROM:+0000
TZOFFSETTO:+0100
TZNAME:BST
DTSTART:20260329T010000
END:DAYLIGHT
BEGIN:STANDARD
TZOFFSETFROM:+0100
TZOFFSETTO:+0000
TZNAME:GMT
DTSTART:20261025T010000
END:STANDARD
BEGIN:DAYLIGHT
TZOFFSETFROM:+0000
TZOFFSETTO:+0100
TZNAME:BST
DTSTART:20270328T010000
END:DAYLIGHT
BEGIN:STANDARD
TZOFFSETFROM:+0100
TZOFFSETTO:+0000
TZNAME:GMT
DTSTART:20271031T010000
END:STANDARD
END:VTIMEZONE
BEGIN:VEVENT
DTSTART;TZID=Europe/London:20260502T113000
DTEND;TZID=Europe/London:20260502T153000
DTSTAMP:20260423T120533
CREATED:20260326T233124Z
LAST-MODIFIED:20260327T160953Z
UID:10000749-1777721400-1777735800@rooftopartscentre.co.uk
SUMMARY:Botanical Drawing with Coloured Pencils
DESCRIPTION:Ever wanted to capture the intricate details of a flower or the vibrant textures of foliage with precision?\nJoin our hands-on workshop and discover the art of botanical illustration. Whether you are a complete beginner or looking to develop your existing skills\, this class offers a step-by-step guide to using coloured pencils to create stunning\, life-like representations of plants and flowers. \n \nUnder expert guidance\, you will learn how to translate the wonders of the natural world onto paper\, focusing on the fine details that bring botanical subjects to life. Expect a focused yet supportive atmosphere where you can immerse yourself in the process of seeing and drawing. \nWhat to expect:\n\n\nTechniques for Texture: Learn how to create realistic surfaces and shading using professional coloured pencils. \n\n\nLight and Depth: Master the art of capturing light to give your botanical subjects a three-dimensional quality. \n\n\nLayering and Blending: Expert tips on mixing colours and building layers to achieve rich\, vibrant tones. \n\n\nWorking from Life: Guidance on drawing directly from plants and flowers\, as well as using reference photography. \n\n\nA Full Creative Experience: All materials are provided\, and a complimentary lunch is included to keep you inspired throughout the day. \n\n\nDon’t miss your chance to be part of this one-of-a-kind creative escape! \nWorkshop Details:\nWhen: Saturday May 2nd\nTime: 11.30am-3.30pm\nMaterials Provided: but feel free to bring your own\, such as paper\, coloured pencils\, etc.\nSkill Level: All levels welcome!\nCost: £40pp\nLight lunch provided \nSpaces are limited – sign up today and start your journey into botanical art! \nShare with your friends:
URL:https://rooftopartscentre.co.uk/event/botanical-drawing-with-coloured-pencils
LOCATION:ROOFTOP Arts Centre\, 27 New Post Office Square\, Corby\, Northants\, NN17 1PB\, United Kingdom
CATEGORIES:Workshops
ATTACH;FMTTYPE=image/jpeg:https://rooftopartscentre.co.uk/wp-content/uploads/2026/03/Botanical-Drawing-with-Coloured-Pencils-cover.jpeg
ORGANIZER;CN="ROOFTOP Arts Centre":MAILTO:info@rooftopartscentre.co.uk
END:VEVENT
END:VCALENDAR